View In:
ArcGIS JavaScript
ArcGIS Online Map Viewer
ArcGIS Earth
ArcGIS Pro
Service Description: This map image layer powers the streets basemap for the City of Fayetteville, AR.
Map Name: Test_Streets_Annotation_WGS84
Legend
All Layers and Tables
Dynamic Legend
Dynamic All Layers
Layers:
Description: This map image layer powers the streets basemap for the City of Fayetteville, AR.
Service Item Id: a69a09dee59b405db9d8fc5aa7e437f2
Copyright Text: City of Fayetteville, AR
Spatial Reference:
102100
(3857)
Single Fused Map Cache: true
Tile Info:
- Height: 256
- Width: 256
- DPI: 96
-
Levels of Detail: 21
-
Level ID: 1
[ Start Tile, End Tile ]
- Resolution: 78271.5169639999
- Scale: 2.95828763795777E8
-
Level ID: 2
[ Start Tile, End Tile ]
- Resolution: 39135.7584820001
- Scale: 1.47914381897889E8
-
Level ID: 3
[ Start Tile, End Tile ]
- Resolution: 19567.8792409999
- Scale: 7.3957190948944E7
-
Level ID: 4
[ Start Tile, End Tile ]
- Resolution: 9783.93962049996
- Scale: 3.6978595474472E7
-
Level ID: 5
[ Start Tile, End Tile ]
- Resolution: 4891.96981024998
- Scale: 1.8489297737236E7
- Format: PNG
- Compression Quality: 0.0
- Origin: X: -2.00377E7
Y: 3.02411E7
- Spatial Reference: 102100
(3857)
Storage Info:
- Storage Format: esriMapCacheStorageModeCompactV2
- Packet Size: 128
Initial Extent:
XMin: -1.0490612369574187E7
YMin: 4313337.029028142
XMax: -1.0474894123625824E7
YMax: 4327417.957690217
Spatial Reference: 102100
(3857)
Full Extent:
XMin: -1.0501998390306111E7
YMin: 4294508.058567986
XMax: -1.0455981100078387E7
YMax: 4322739.399171185
Spatial Reference: 102100
(3857)
Units: esriMeters
Supported Image Format Types: PNG32,PNG24,PNG,JPG,DIB,TIFF,EMF,PS,PDF,GIF,SVG,SVGZ,BMP
Document Info:
Title: Streets
Author:
Comments: <DIV STYLE="text-align:Left;"><DIV><DIV><P><SPAN>This map image layer powers the streets basemap for the City of Fayetteville, AR.</SPAN></P></DIV></DIV></DIV>
Subject: Streets basemap for Fayetteville, AR
Category:
Keywords: Fayetteville,AR,Arkansas,imageryBaseMapsEarthCover
AntialiasingMode: Fast
TextAntialiasingMode: Force
Supports Dynamic Layers: true
MaxRecordCount: 2000
MaxImageHeight: 4096
MaxImageWidth: 4096
Supported Query Formats: JSON, geoJSON, PBF
Supports Query Data Elements: true
Min Scale: 5.91657527591555E8
Max Scale: 564.248588
Min LOD: 0
Max LOD: 20
Supports Datum Transformation: true
Child Resources:
Info
Dynamic Layer
Supported Operations:
Export Map
Identify
QueryLegends
QueryDomains
Find
Return Updates