View In:
ArcGIS JavaScript
ArcGIS Online Map Viewer
ArcGIS Earth
ArcGIS Pro
Service Description: <div style='text-align:Left;font-size:12pt'><div><div><div><p><span>Within the city limits and water service area is 6-inch resolution imagery captured by Bowman on 2/27/2026. Outside of this area is 3-6 inch imagery captured by EagleView Technologies from 12/2/2025-2/23/2026. Within Benton County is 6-inch resolution imagery, captured by The Sanborn Map Company, Inc. on an unknown date in winter 2025-2026.</span></p></div></div></div></div>
Map Name: Imagery_WGS84
Legend
All Layers and Tables
Dynamic Legend
Dynamic All Layers
Layers:
Description: Within the city limits and water service area is 6-inch resolution imagery captured by Bowman on 2/27/2026. Outside of this area is 3-6 inch imagery captured by EagleView Technologies from 12/2/2025-2/23/2026. Within Benton County is 6-inch resolution imagery, captured by The Sanborn Map Company, Inc. on an unknown date in winter 2025-2026.
Service Item Id: 911697ec298a4791b468e44db4ac5469
Copyright Text: 2026 Imagery | Bowman | EagleView Technologies | The Sanborn Map Company, Inc.
Spatial Reference:
102100
(3857)
LatestVCSWkid(0)
Single Fused Map Cache: true
Tile Info:
- Height: 256.0
- Width: 256.0
- DPI: 96.0
-
Levels of Detail: 24
-
Level ID: 1
[ Start Tile, End Tile ]
- Resolution: 78271.5169639999
- Scale: 2.95828763795777E8
-
Level ID: 2
[ Start Tile, End Tile ]
- Resolution: 39135.7584820001
- Scale: 1.47914381897889E8
-
Level ID: 3
[ Start Tile, End Tile ]
- Resolution: 19567.8792409999
- Scale: 7.3957190948944E7
-
Level ID: 4
[ Start Tile, End Tile ]
- Resolution: 9783.93962049996
- Scale: 3.6978595474472E7
-
Level ID: 5
[ Start Tile, End Tile ]
- Resolution: 4891.96981024998
- Scale: 1.8489297737236E7
- Format: MIXED
- Compression Quality: 90.0
- Origin: X: -2.0037508342787E7
Y: 2.0037508342787E7
- Spatial Reference: 102100
(3857)
LatestVCSWkid(0)
Storage Info:
- Storage Format: esriMapCacheStorageModeCompactV2
- Packet Size: 128
Initial Extent:
XMin: -1.05268861937494E7
YMin: 4276711.260729951
XMax: -1.0436216292345041E7
YMax: 4348554.163498755
Spatial Reference: 102100
(3857)
LatestVCSWkid(0)
Full Extent:
XMin: -1.05092402948E7
YMin: 4293019.220799997
XMax: -1.04540241474E7
YMax: 4337307.5317
Spatial Reference: 102100
(3857)
LatestVCSWkid(0)
Units: esriMeters
Supported Image Format Types: PNG32,PNG24,PNG,JPG,DIB,TIFF,EMF,PS,PDF,GIF,SVG,SVGZ,BMP
Document Info:
Title: Imagery
Author:
Comments: Within the city limits and water service area is 6-inch resolution imagery captured by Bowman on 2/27/2026. Outside of this area is 3-6 inch imagery captured by EagleView Technologies from 12/2/2025-2/23/2026. Within Benton County is 6-inch resolution imagery, captured by The Sanborn Map Company, Inc. on an unknown date in winter 2025-2026.
Subject: This is the most current aerial imagery.
Category:
Keywords: Fayetteville,AR,Arkansas,imageryBaseMapsEarthCover
AntialiasingMode: Fast
TextAntialiasingMode: Force
Supports Dynamic Layers: true
Resampling: false
MaxRecordCount: 2000
MaxSelectionCount: 2000
MaxImageHeight: 4096
MaxImageWidth: 4096
Supported Query Formats: JSON, geoJSON, PBF
Supports Query Data Elements: true
Min Scale: 5.91657527591555E8
Max Scale: 564.248588
Supports Datum Transformation: true
Child Resources:
Info
Dynamic Layer
Supported Operations:
Export Map
Identify
QueryLegends
QueryDomains
Find
EstimateExportTilesSize
ExportTiles
Return Updates