{ "currentVersion": 11.5, "cimVersion": "3.5.0", "serviceDescription": "
This 1:8,040 scale imagery was captured on 8/8/1954 and delivered as a single 27\" x 28\" photo print. It was subsequently scanned and georeferenced into GIS at ~4 feet of resolution.<\/span><\/p><\/div><\/div>",
"mapName": "1954_WGS84",
"description": "",
"copyrightText": "1954 Imagery",
"supportsDynamicLayers": false,
"layers": [
{
"id": 0,
"name": "Imagery (bw)",
"parentLayerId": -1,
"defaultVisibility": true,
"subLayerIds": null,
"minScale": 0,
"maxScale": 0,
"type": "Raster Layer",
"supportsDynamicLegends": true
}
],
"tables": [],
"spatialReference": {
"wkid": 102100,
"latestWkid": 3857,
"xyTolerance": 0.001,
"zTolerance": 0.001,
"mTolerance": 0.001,
"falseX": -20037700,
"falseY": -30241100,
"xyUnits": 10000,
"falseZ": -100000,
"zUnits": 10000,
"falseM": -100000,
"mUnits": 10000
},
"singleFusedMapCache": true,
"tileInfo": {
"rows": 256,
"cols": 256,
"dpi": 96,
"format": "JPEG",
"compressionQuality": 90,
"origin": {
"x": -20037700,
"y": 30241100
},
"spatialReference": {
"wkid": 102100,
"latestWkid": 3857,
"xyTolerance": 0.001,
"zTolerance": 0.001,
"mTolerance": 0.001,
"falseX": -20037700,
"falseY": -30241100,
"xyUnits": 1.4892314192838538E8,
"falseZ": -100000,
"zUnits": 10000,
"falseM": -100000,
"mUnits": 10000
},
"lods": [
{
"level": 0,
"resolution": 38.21851414253662,
"scale": 144447.638572
},
{
"level": 1,
"resolution": 19.10925707126831,
"scale": 72223.819286
},
{
"level": 2,
"resolution": 9.554628535634155,
"scale": 36111.909643
},
{
"level": 3,
"resolution": 4.77731426794937,
"scale": 18055.954822
},
{
"level": 4,
"resolution": 2.388657133974685,
"scale": 9027.977411
},
{
"level": 5,
"resolution": 1.1943285668550503,
"scale": 4513.988705
},
{
"level": 6,
"resolution": 0.5971642835598172,
"scale": 2256.994353
},
{
"level": 7,
"resolution": 0.29858214164761665,
"scale": 1128.497176
},
{
"level": 8,
"resolution": 0.14929107082380833,
"scale": 564.248588
}
]
},
"storageInfo": {
"storageFormat": "esriMapCacheStorageModeCompactV2",
"packetSize": 128
},
"initialExtent": {
"xmin": -1.048434528475854E7,
"ymin": 4310165.861290197,
"xmax": -1.048207790263821E7,
"ymax": 4312175.216950596,
"spatialReference": {
"cs": "pcs",
"wkid": 102100
}
},
"fullExtent": {
"xmin": -1.048511437633648E7,
"ymin": 4307955.309100445,
"xmax": -1.047837885937727E7,
"ymax": 4314867.903312815,
"spatialReference": {
"cs": "pcs",
"wkid": 102100
}
},
"datesInUnknownTimezone": false,
"minScale": 144447.638572,
"maxScale": 564.248588,
"units": "esriMeters",
"supportedImageFormatTypes": "PNG32,PNG24,PNG,JPG,DIB,TIFF,EMF,PS,PDF,GIF,SVG,SVGZ,BMP",
"documentInfo": {
"Title": "Imagery (1954)",
"Author": "",
"Comments": " This 1:8,040 scale imagery was captured on 8/8/1954 and delivered as a single 27\" x 28\" photo print. It was subsequently scanned and georeferenced into GIS at ~4 feet of resolution.<\/SPAN><\/P><\/DIV><\/DIV>",
"Subject": "This is the aerial imagery flown for the 1954 calendar year.",
"Category": "",
"Version": "2.4.0",
"AntialiasingMode": "None",
"TextAntialiasingMode": "Force",
"Keywords": "Fayetteville,AR,Arkansas,Imagery,imageryBaseMapsEarthCover"
},
"supportsQueryDomains": true,
"capabilities": "Map,Query,Data",
"supportedQueryFormats": "JSON, geoJSON, PBF",
"exportTilesAllowed": false,
"referenceScale": 0.0,
"datumTransformations": [
{
"geoTransforms": [
{
"wkid": 108001,
"latestWkid": 1241,
"transformForward": true,
"name": "NAD_1927_To_NAD_1983_NADCON"
}
]
},
{
"geoTransforms": [
{
"wkid": 108001,
"latestWkid": 1241,
"transformForward": false,
"name": "NAD_1927_To_NAD_1983_NADCON"
}
]
}
],
"supportsDatumTransformation": true,
"archivingInfo": {"supportsHistoricMoment": false},
"supportsClipping": true,
"supportsSpatialFilter": true,
"supportsTimeRelation": true,
"supportsQueryDataElements": true,
"mapUnits": {"uwkid": 9001},
"maxSelectionCount": 2000,
"maxRecordCount": 2000,
"maxImageHeight": 4096,
"maxImageWidth": 4096,
"supportedExtensions": "",
"serviceItemId": "743daae46237475fb842c0b3e077db4c"
}